BEGIN:VCALENDAR
VERSION:2.0
PRODID:-//Volt Europa//Events//EN
CALSCALE:GREGORIAN
METHOD:PUBLISH
BEGIN:VEVENT
UID:campagne-volt-nijmegen-grv26-1772269200@voltnederland.org
DTSTAMP:20260423T061257Z
DTSTART;TZID=Europe/Amsterdam:20260228T100000
DTEND;TZID=Europe/Amsterdam:20260318T090000
SUMMARY:Campagne Volt Nijmegen
DESCRIPTION:Bedankt dat jij je interesse hebt in de campagne van Volt voor 
 de verkiezingen voor de gemeenteraad in Nijmegen! Op 18 maart zijn de verki
 ezingen. Wij willen allemaal Volt helpen om hier in Nijmegen een goed resul
 taat neer te zetten.  Wij voeren campagne in elk weekend tot aan de verkiez
 ingen (28 februari\, en 1/7/8/14/15 maart). Daarnaast zijn wij vanaf maanda
 g 2 maart ook op elke weekdag actief (o.a. op de universiteit/HAN en het st
 ation). Geïnteresseerd? Kom je helpen flyers uitdelen op straat
LOCATION:Nijmegen
URL:https://voltnederland.org/gelderland/agenda/campagne-volt-nijmegen-grv2
 6
END:VEVENT
END:VCALENDAR
