BEGIN:VCALENDAR
VERSION:2.0
PRODID:-//Volt Europa//Events//EN
CALSCALE:GREGORIAN
METHOD:PUBLISH
BEGIN:VEVENT
UID:campagne-brainstorm-volt-nijmegen-1767724200@voltnederland.org
DTSTAMP:20260423T211237Z
DTSTART;TZID=Europe/Amsterdam:20260106T193000
DTEND;TZID=Europe/Amsterdam:20260106T213000
SUMMARY:Campagne brainstorm Volt Nijmegen
DESCRIPTION:6 januari om 19:30 houden wij een brainstorm sessie over de cam
 pagne voor de gemeenteraadsverkiezingen. De locatie is bij een Volt-lid thu
 is\; stuur een mail en wij laten je het adres weten! Zet het alvast in je a
 genda. Kom vooral meedenken en mede-Volters leren kennen. Laat je weten of 
 je komt? Stuur dan aub even  een e-mail.
LOCATION:Bij Volt-lid Toon thuis
URL:https://voltnederland.org/gelderland/agenda/campagne-brainstorm-volt-ni
 jmegen
END:VEVENT
END:VCALENDAR
