BEGIN:VCALENDAR
VERSION:2.0
PRODID:-//Volt Europa//Events//EN
CALSCALE:GREGORIAN
METHOD:PUBLISH
BEGIN:VEVENT
UID:campagne-acties-rivierenland-1717142400@voltnederland.org
DTSTAMP:20260425T103004Z
DTSTART;TZID=Europe/Amsterdam:20240531T100000
DTEND;TZID=Europe/Amsterdam:20240604T200000
SUMMARY:campagne acties Rivierenland
DESCRIPTION:25 mei  We zijn 's ochtends op de weekmarkt in Zaltbommel en '
 s middags op de weekmarkt in Tiel. 31 mei We zijn 's ochtends op het statio
 n en de weekmarkt in Geldermalsen en 's middags op de weekmarkt in Tiel Pas
 sewaaij. 2 juni We zijn in winkelcentra in Culemborg. 4 juni  We zijn op he
 t station en de weekmarkt in Culemborg. Voor aanmelden of vragen mail naar 
  campagne.gelderland@voltnederland.org
LOCATION:Zaltbommel en Tiel
URL:https://voltnederland.org/gelderland/agenda/campagne-acties-rivierenlan
 d
END:VEVENT
END:VCALENDAR
