BEGIN:VCALENDAR
VERSION:2.0
PRODID:-//Volt Europa//Events//EN
CALSCALE:GREGORIAN
METHOD:PUBLISH
BEGIN:VEVENT
UID:campagne-acties-nijmegen-1717570800@voltnederland.org
DTSTAMP:20260423T114225Z
DTSTART;TZID=Europe/Amsterdam:20240605T090000
DTEND;TZID=Europe/Amsterdam:20240608T200000
SUMMARY:Campagne acties Nijmegen
DESCRIPTION:Aanmelding Wil je je opgeven om ons te helpen in de campagne vo
 or de verkiezingen van het Europees Parlement? Meld je dan hier aan:  https
 ://forms.gle/SdbYaNFVRpZkeJyd7 Op 24 mei: Batavierenrace Wij staan 's avond
 s (van ongeveer 21:30 - 22:30) langs de route van de Batavierenrace waar st
 udenten tussen Nijmegen en Enschede hardlopen. Wij staan met Volt vlaggen e
 n Volt kleding iedereen aan te moedigen! Op 25 mei: in het centrum flyeren 
 Wij staan in het centrum van Nijmegen om met mensen te praten 
LOCATION:Nijmegen
URL:https://voltnederland.org/gelderland/agenda/campagne-acties-nijmegen
END:VEVENT
END:VCALENDAR
