BEGIN:VCALENDAR
VERSION:2.0
PRODID:-//Volt Europa//Events//EN
CALSCALE:GREGORIAN
METHOD:PUBLISH
BEGIN:VEVENT
UID:brainstorm-bijeenkomst-community-building-arnhem-nijmegen-1718991000@vo
 ltnederland.org
DTSTAMP:20260423T114539Z
DTSTART;TZID=Europe/Amsterdam:20240621T193000
DTEND;TZID=Europe/Amsterdam:20240621T220000
SUMMARY:Brainstorm bijeenkomst 'Community building' Arnhem-Nijmegen
DESCRIPTION:Beste Volters\,  De Europese verkiezingen zijn achter de rug en
  we hebben een fantastisch resultaat geboekt! We zitten met 5 zetels in het
  Europees Parlement. In de afgelopen weken hebben we verschillende mooie ca
 mpagne activiteiten mogen zien\, zoals: - Mensen die de wijken in gingen me
 t flyers\, - Fietsers van Nijmegen naar Duitsland\, - Samen met de kandidat
 en canvassen\, - Bij beide stations is er fanatiek geflyerd. Wij willen gra
 ag iedereen bedanken voor hun inzet gedurende de campagne. En laten
LOCATION:Bothaplein 2\, Arnhem
URL:https://voltnederland.org/gelderland/agenda/brainstorm-bijeenkomst-comm
 unity-building-arnhem-nijmegen
END:VEVENT
END:VCALENDAR
