BEGIN:VCALENDAR
VERSION:2.0
PRODID:-//Volt Europa//Events//EN
CALSCALE:GREGORIAN
METHOD:PUBLISH
BEGIN:VEVENT
UID:borrelavond-volt-veluwe-noord-1725037200@voltnederland.org
DTSTAMP:20260423T114135Z
DTSTART;TZID=Europe/Amsterdam:20240830T190000
DTEND;TZID=Europe/Amsterdam:20240830T220000
SUMMARY:Borrelavond Volt Veluwe Noord
DESCRIPTION:Onze tweede maandelijkse borrel deze keer in Apeldoorn! Wees we
 lkom om informeel met elkaar van gedachten te wisselen over Volt en wat te 
 doen om onze ideeën in daden om te zetten. Neem ook gerust belangstellende
 n mee!
LOCATION:Café de Paris\, Raadhuisplein 5\, Apeldoorn
URL:https://voltnederland.org/agenda/borrelavond-volt-veluwe-noord
END:VEVENT
END:VCALENDAR
