BEGIN:VCALENDAR
VERSION:2.0
PRODID:-//Volt Europa//Events//EN
CALSCALE:GREGORIAN
METHOD:PUBLISH
BEGIN:VEVENT
UID:borrel-volt-veluwe-noord-1722013200@voltnederland.org
DTSTAMP:20260423T142909Z
DTSTART;TZID=Europe/Amsterdam:20240726T190000
DTEND;TZID=Europe/Amsterdam:20240726T220000
SUMMARY:Borrel Volt Veluwe Noord
DESCRIPTION:De start van onze maandelijkse borrelavonden\, op wisselende pl
 ekken in Volt Veluwe Noord! Schuif deze keer aan in Heerde om elkaar inform
 eel te ontmoeten en na te denken over Volt in onze regio. Neem gerust belan
 gstellenden mee! Je hoeft je niet aan te melden.
LOCATION:De Spikke\, Heerde: https://www.despikke.nl/
URL:https://voltnederland.org/agenda/borrel-volt-veluwe-noord
END:VEVENT
END:VCALENDAR
