BEGIN:VCALENDAR
VERSION:2.0
PRODID:-//Volt Europa//Events//EN
CALSCALE:GREGORIAN
METHOD:PUBLISH
BEGIN:VEVENT
UID:borderball-2025-1751025600@voltnederland.org
DTSTAMP:20260423T102133Z
DTSTART;TZID=Europe/Amsterdam:20250627T140000
DTEND;TZID=Europe/Amsterdam:20250629T140000
SUMMARY:Borderball 2025
DESCRIPTION:Borderball 2025 – Het ultieme grensoverschrijdende evenement!
  Wil je deel uitmaken van  een weekend vol sport\, muziek en Europese conne
 cties ? Kom naar de  derde editie van Borderball \, een  driedaags evenemen
 t  waarin  ontspanning\, inspiratie en nieuwe ideeën  centraal staan! 🌍
 🎶⚽ Wat kun je verwachten? 🔥 Een mix van  sportieve activiteiten\, r
 elaxen en workshops  🎸  Barbecue\, muziek\, dans  en kamperen onder de s
 terren 🗺️ Een kans om  op een ontspannen manier meer te leren over Eur
 opese politiek 
LOCATION:Sportpark Bults-erve Glanerburg (Enschede)
URL:https://voltnederland.org/gelderland/agenda/borderball-2025
END:VEVENT
END:VCALENDAR
