BEGIN:VCALENDAR
VERSION:2.0
PRODID:-//Volt Europa//Events//EN
CALSCALE:GREGORIAN
METHOD:PUBLISH
BEGIN:VEVENT
UID:bijeenkomst-volt-nijmegen-over-de-gemeenteraadsverkiezingen-in-2026-174
 2495400@voltnederland.org
DTSTAMP:20260423T115542Z
DTSTART;TZID=Europe/Amsterdam:20250320T193000
DTEND;TZID=Europe/Amsterdam:20250320T223000
SUMMARY:Bijeenkomst Volt Nijmegen over de gemeenteraadsverkiezingen in 2026
DESCRIPTION:Donderdag 20 maart houden wij een bijeenkomst in het Roze Huis 
 ( Sint Anthoniusplaats 1\, 6511 TR Nijmegen ) in Nijmegen met inloop vanaf 
 19:30. Deze ontmoeting gaat over de gemeenteraadsverkiezingen in Nijmegen. 
 We gaan ons als Volt voorbereiden op deze verkiezingen en die beginnen nu. 
 We willen jullie bijpraten over de kieslijst\, verkiezingsprogramma\, campa
 gne\, het project en de planning. Daarna praten wij met elkaar over hoe wij
  ervoor zorgen dat wij meedoen! Na afloop is er ruimte voor een dr
LOCATION:het Roze Huis\, Nijmegen
URL:https://voltnederland.org/gelderland/agenda/bijeenkomst-volt-nijmegen-o
 ver-de-gemeenteraadsverkiezingen-in-2026
END:VEVENT
END:VCALENDAR
