BEGIN:VCALENDAR
VERSION:2.0
PRODID:-//Volt Europa//Events//EN
CALSCALE:GREGORIAN
METHOD:PUBLISH
BEGIN:VEVENT
UID:bijeenkomst-van-het-beleidsteam-van-wageningen-februari-1-1742497200@vo
 ltnederland.org
DTSTAMP:20260423T144549Z
DTSTART;TZID=Europe/Amsterdam:20250320T200000
DTEND;TZID=Europe/Amsterdam:20250320T213000
SUMMARY:Bijeenkomst van het beleidsteam van Wageningen maart
DESCRIPTION:Wil jij graag meedenken over het beleid in de gemeente Wagening
 en? Laat dan jouw stem en visie horen en schrijf mee aan het verkiezingspro
 gramma voor de gemeenteraadsverkiezingen. Voor meer informatie kan je maile
 n naar Stef ( stef.dewarle@volteuropa.org ).
LOCATION:Wageningen
URL:https://voltnederland.org/gelderland/agenda/bijeenkomst-van-het-beleids
 team-van-wageningen-februari-1
END:VEVENT
END:VCALENDAR
