BEGIN:VCALENDAR
VERSION:2.0
PRODID:-//Volt Europa//Events//EN
CALSCALE:GREGORIAN
METHOD:PUBLISH
BEGIN:VEVENT
UID:bijeenkomst-over-mobiliteit-1713096000@voltnederland.org
DTSTAMP:20260423T143509Z
DTSTART;TZID=Europe/Amsterdam:20240414T140000
DTEND;TZID=Europe/Amsterdam:20240414T160000
SUMMARY:Bijeenkomst over mobiliteit
DESCRIPTION:Ben je geïnteresseerd in mobiliteit in Gelderland? Heb je conc
 rete ideeën die met verkeer of vervoer te maken hebben\, ken je goede (of 
 slechte) voorbeelden of wil je gewoon horen wat er zoal speelt rond dit the
 ma? Dan ben je van harte welkom om deel te nemen aan een bijeenkomst van de
  Volt fractie op 14 april over Mobiliteit in Gelderland. Plaats: Sportcentr
 um De Helster Schubertstraat 1 6661 AW ELST Tijd: zondag 14 april van 14:00
  tot 16:00. Op de agenda staan o.a. de actualisatie van de mobili
LOCATION:Sportcentrum De Helster\, Schubertstraat 1\, 6661AW ELST
URL:https://voltnederland.org/gelderland/agenda/bijeenkomst-over-mobiliteit
END:VEVENT
END:VCALENDAR
