BEGIN:VCALENDAR
VERSION:2.0
PRODID:-//Volt Europa//Events//EN
CALSCALE:GREGORIAN
METHOD:PUBLISH
BEGIN:VEVENT
UID:bezoek-aan-kledingbank-nijmegen-1762520400@voltnederland.org
DTSTAMP:20260423T115309Z
DTSTART;TZID=Europe/Amsterdam:20251107T140000
DTEND;TZID=Europe/Amsterdam:20251107T160000
SUMMARY:Bezoek aan Kledingbank Nijmegen
DESCRIPTION:Op vrijdag 7 november start Volt Connect Nijmegen met het eerst
 e werkbezoek: de Kledingbank. We willen in gesprek gaan met de mensen achte
 r dit initiatief\, hun uitdagingen leren kennen en samen verkennen wat wij 
 als Volt kunnen bijdragen. Met Volt Connect Nijmegen leggen we de verbindin
 g tussen politiek en samenleving\, en zoeken we nadrukkelijk de dialoog bui
 ten onze eigen bubbel. Zo maken we maatschappelijke thema’s tastbaar en v
 ertalen we ervaringen uit de praktijk naar onze lokale inzet voor 
LOCATION:Winkelsteegseweg 144\, 6534 AR Nijmegen
URL:https://voltnederland.org/gelderland/agenda/bezoek-aan-kledingbank-nijm
 egen
END:VEVENT
END:VCALENDAR
