BEGIN:VCALENDAR
VERSION:2.0
PRODID:-//Volt Europa//Events//EN
CALSCALE:GREGORIAN
METHOD:PUBLISH
BEGIN:VEVENT
UID:bezoek-aan-de-lindenberg-1769778000@voltnederland.org
DTSTAMP:20260423T174047Z
DTSTART;TZID=Europe/Amsterdam:20260130T140000
DTEND;TZID=Europe/Amsterdam:20260130T160000
SUMMARY:Bezoek aan de Lindenberg
DESCRIPTION:Op 30 januari gaan wij op bezoek bij de Lindenberg van 14:00 - 
 16:00. Wij bezoeken hen om meer te weten te komen over kunst en cultuur in 
 Nijmegen\, en de rol van de Lindenberg daarin. Wij zijn benieuwd naar de ka
 nsen en uitdagingen waar zij tegenaan lopen en hoe de gemeente (of wij als 
 burgers van Nijmegen) daar bij kunnen helpen.  Dit bezoek wordt georganisee
 rd door Volt Connect Nijmegen\, een groepje Volters die de verbinding tusse
 n de politiek en samenleving wil leggen door middel van bezoeken
LOCATION:Ridderstraat 23\, 6511 TM Nijmegen
URL:https://voltnederland.org/gelderland/agenda/bezoek-aan-de-lindenberg
END:VEVENT
END:VCALENDAR
