BEGIN:VCALENDAR
VERSION:2.0
PRODID:-//Volt Europa//Events//EN
CALSCALE:GREGORIAN
METHOD:PUBLISH
BEGIN:VEVENT
UID:apeldoorn-tweede-kennismakings-en-brainstormbijeenkomst-volt-veluwe-noo
 rd-1718386200@voltnederland.org
DTSTAMP:20260423T114629Z
DTSTART;TZID=Europe/Amsterdam:20240614T193000
DTEND;TZID=Europe/Amsterdam:20240614T220000
SUMMARY:Apeldoorn - Tweede kennismakings- en brainstormbijeenkomst Volt Vel
 uwe Noord
DESCRIPTION:Na een inspirerende eerste bijeenkomst én campagne in onze her
 starte community komen we nu voor de tweede keer bij elkaar. We gaan de cam
 pagne evalueren en brainstormen over activiteiten voor de komende tijd. Hoe
  verdiepen we ons verder in Volt? Hoe laten we zien waar Volt voor staat? W
 at gaan we doen voor de maatschappij? We willen de avond afsluiten met een 
 lijstje concrete afspraken. Alle leden van community Volt Veluwe Noord zijn
  van harte welkom!
LOCATION:Apeldoorn (wordt nog bekend gemaakt)
URL:https://voltnederland.org/agenda/apeldoorn-tweede-kennismakings-en-brai
 nstormbijeenkomst-volt-veluwe-noord
END:VEVENT
END:VCALENDAR
