BEGIN:VCALENDAR
VERSION:2.0
PRODID:-//Volt Europa//Events//EN
CALSCALE:GREGORIAN
METHOD:PUBLISH
BEGIN:VEVENT
UID:anna-strolenberg-over-voedsel-en-inclusie-1772560800@voltnederland.org
DTSTAMP:20260424T160525Z
DTSTART;TZID=Europe/Amsterdam:20260303T190000
DTEND;TZID=Europe/Amsterdam:20260303T220000
SUMMARY:Europees denken\, Lokaal doen met Anna Strolenberg
DESCRIPTION:Op dinsdag 3 maart komt Europarlementariër  Anna Strolenberg  
 naar Arnhem voor een open dialoog over Europese waarden zoals inclusie\, de
 mocratie en samenwerking. Tijdens dit gesprek gaat ze met  Maurits van de G
 eijn  dieper in op hoe we Europese waarden kunnen vertalen naar concrete ac
 tie in onze stad. Het thema "Europees denken\, lokaal doen" staat centraal.
  Want juist nu is het belangrijk om te laten zien dat Europese idealen niet
  ver weg zijn\, maar aan de orde van de dag. Het publiek wordt uit
LOCATION:De Lommerd\, Spijkerstraat 185a\, 6828 DC Arnhem
URL:https://voltnederland.org/gelderland/agenda/anna-strolenberg-over-voeds
 el-en-inclusie
END:VEVENT
END:VCALENDAR
