BEGIN:VCALENDAR
VERSION:2.0
PRODID:-//Volt Europa//Events//EN
CALSCALE:GREGORIAN
METHOD:PUBLISH
BEGIN:VEVENT
UID:aken-d-karlspreis-uitreiking-festiviteiten-1778749200@voltnederland.org
DTSTAMP:20260421T104202Z
DTSTART;TZID=Europe/Amsterdam:20260514T110000
DTEND;TZID=Europe/Amsterdam:20260514T170000
SUMMARY:Aken (D): Karlspreis uitreiking - festiviteiten
DESCRIPTION:Sinds 1950 wordt in Aken op Hemelvaartsdag de Karlspreis uitger
 eikt aan een of meer personen of een organisatie die zich verdienstelijk he
 bben gemaakt voor de Europese eenwording. De prijs is genoemd naar Karel de
  Grote en wordt uitgereikt in de kroningszaal van het Akense stadhuis. Volt
 ers uit Brabant\, Limburg en NRW komen gezellig bij elkaar om de uitreiking
  op de beeldschermen op de Markt te bekijken. Ook zijn er op de Katschhof i
 nfo-stands en andere festiviteiten. Andere Volters zijn natuurl
LOCATION:Aken: Katschhof\, 52062 Aken\, Duitsland
URL:https://voltnederland.org/agenda/aken-d-karlspreis-uitreiking-festivite
 iten
END:VEVENT
END:VCALENDAR
