BEGIN:VCALENDAR
VERSION:2.0
PRODID:-//Volt Europa//Events//EN
CALSCALE:GREGORIAN
METHOD:PUBLISH
BEGIN:VEVENT
UID:aid-wageningen-1755601200@voltnederland.org
DTSTAMP:20260423T113948Z
DTSTART;TZID=Europe/Amsterdam:20250819T130000
DTEND;TZID=Europe/Amsterdam:20250819T160000
SUMMARY:AID Wageningen
DESCRIPTION:Op 19 augustus staan wij op de informatiemarkt van de introduct
 ie dagen van de WUR. Daar ontmoeten en verwelkomen we graag de nieuwe stude
 nten. Lijkt het je leuk om te helpen bij onze kraam? Stuur dan een mailtje 
 naar  alve.sluiman@volteuropa.org Datum: 19 augustus (13.00-16.00) Locatie:
  Arboretum Belmonte Wageningen
LOCATION:Arboretum Belmonte Wageningen
URL:https://voltnederland.org/gelderland/agenda/aid-wageningen
END:VEVENT
END:VCALENDAR
