BEGIN:VCALENDAR
VERSION:2.0
PRODID:-//Volt Europa//Events//EN
CALSCALE:GREGORIAN
METHOD:PUBLISH
BEGIN:VEVENT
UID:achterhoek-2030-1778087700@voltnederland.org
DTSTAMP:20260421T103730Z
DTSTART;TZID=Europe/Amsterdam:20260506T191500
DTEND;TZID=Europe/Amsterdam:20260506T220000
SUMMARY:Achterhoek 2030
DESCRIPTION:Volt Achterhoek heeft een duidelijke missie: Volt bekend maken 
 in de Achterhoek én de Achterhoek een krachtige stem geven binnen Volt. De
  potentie van deze regio verdient een prominente plek in de landelijke Volt
 -agenda. Denk aan een innovatieve maakindustrie in volle renaissance\, een 
 voorloperspositie in circulaire landbouw\, een gemeenschapszin die grootste
 delijke gebieden ons niet nadoen\, een groeiende rol  met sterke verbinding
 en naar kennisregio's zoals Twente en Münster. Na de gemeenteraads
LOCATION:Hier Achterhoek\, Palmberg 18\, 7021 DJ Zelhem
URL:https://voltnederland.org/gelderland/agenda/achterhoek-2030
END:VEVENT
END:VCALENDAR
