BEGIN:VCALENDAR
VERSION:2.0
PRODID:-//Volt Europa//Events//EN
CALSCALE:GREGORIAN
METHOD:PUBLISH
BEGIN:VEVENT
UID:11-oktober-campagne-kick-off-nijmegen-1760171400@voltnederland.org
DTSTAMP:20260423T143813Z
DTSTART;TZID=Europe/Amsterdam:20251011T103000
DTEND;TZID=Europe/Amsterdam:20251011T160000
SUMMARY:Campagne kick-off Nijmegen
DESCRIPTION:Op 11 oktober is de grote campagne kick-off van Volt voor de Tw
 eede Kamerverkiezingen. Wij gaan in 19 steden in heel Nederland de straat o
 p\, waaronder Nijmegen. Kom mee de stad in\, of als dat niet kan\, draag in
  elk geval die dag paars :) Wij verzamelen om 10:30 bij de Bagels en Beans 
 in de Lange Hezelstraat\, vlakbij het Kronenburgerpark. Kom jij ook ons hel
 pen om in Nijmegen een fantastisch resultaat neer te zetten voor de Tweede 
 Kamerverkiezingen?
LOCATION:Lange Hezelstraat 108\, 6511 CN Nijmegen
URL:https://voltnederland.org/gelderland/agenda/11-oktober-campagne-kick-of
 f-nijmegen
END:VEVENT
END:VCALENDAR
