BEGIN:VCALENDAR
VERSION:2.0
PRODID:-//Volt Europa//Events//EN
CALSCALE:GREGORIAN
METHOD:PUBLISH
BEGIN:VEVENT
UID:volt-fryslan-polityk-kafee-oktober-1761764400@voltnederland.org
DTSTAMP:20260423T114539Z
DTSTART;TZID=Europe/Amsterdam:20251029T200000
DTEND;TZID=Europe/Amsterdam:20251030T000000
SUMMARY:Volt Fryslân - Polityk Kafee LIVE - De ferkiezingsedysje
DESCRIPTION:Yn de moanne oktober ferpleatse wy foar ien kear ús politike k
 afee nei de woansdei fan de Twadde Keamerferkiezingen 2025. Folgje mei ús 
 de útslaggen live en fjouwer de demokrasy! Wat is Polityk Kafee LIVE? Poli
 tyk Kafee LIVE is it iepen en ynformele moetingsplak foar elkenien dy’t y
 nteressearre is yn de polityk fan Volt. Oft jo no lid binne of gewoan nijsg
 jirrich\, jo binne fan herte wolkom. Elke moanne geane we yn in ûntspannen
  sfear mei-inoar yn petear oer aktuele tema’s dy’t spylje yn ús provi
LOCATION:Grandcafé de Walrus - Ljouwert
URL:https://voltnederland.org/fy/friesland/eveneminten/volt-fryslan-polityk
 -kafee-oktober
END:VEVENT
END:VCALENDAR
