BEGIN:VCALENDAR
VERSION:2.0
PRODID:-//Volt Europa//Events//EN
CALSCALE:GREGORIAN
METHOD:PUBLISH
BEGIN:VEVENT
UID:volt-fryslan-polityk-kafee-live-jannewaris-26-1769794200@voltnederland.
 org
DTSTAMP:20260424T031605Z
DTSTART;TZID=Europe/Amsterdam:20260130T183000
DTEND;TZID=Europe/Amsterdam:20260130T223000
SUMMARY:Volt Fryslân - Polityk Kafee LIVE
DESCRIPTION:Wolle jo op in leechdrompelige wize fan gedachten wikselje oer 
 hoe’t we de takomst fan Fryslân en Europa foarmjaan kinne? Of wolle jo y
 n petear oer nije\, progressive ideeën? Kom dan nei ús moanlikse Polityk 
 Kafee LIVE en praat mei oer de takomst! Wat is Polityk Kafee LIVE? Polityk 
 Kafee LIVE is it iepen en ynformele moetingsplak foar elkenien dy’t ynter
 essearre is yn de polityk fan Volt. Oft jo no lid binne of gewoan nijsgjirr
 ich\, jo binne fan herte wolkom. Elke moanne geane we yn in ûntspannen 
LOCATION:Grandcafé de Walrus - Ljouwert
URL:https://voltnederland.org/fy/friesland/eveneminten/volt-fryslan-polityk
 -kafee-live-jannewaris-26
END:VEVENT
END:VCALENDAR
