BEGIN:VCALENDAR
VERSION:2.0
PRODID:-//Volt Europa//Events//EN
CALSCALE:GREGORIAN
METHOD:PUBLISH
BEGIN:VEVENT
UID:volt-fryslan-nijjiersgearkomst-26-1767983400@voltnederland.org
DTSTAMP:20260423T174440Z
DTSTART;TZID=Europe/Amsterdam:20260109T193000
DTEND;TZID=Europe/Amsterdam:20260109T213000
SUMMARY:Annulearje! Volt Fryslân - Nijjiersgearkomst
DESCRIPTION:Fanwegen de waarsomstannichheden hawwe wy dizze gearkomst spiti
 gernôch annulearje moatten. Op freed 9 jannewaris trape wy as Volt Frylân
  it nije jier ôf mei in nijjiersgearkomst. Praat yn in ynformele sfear by 
 mei oare Volters út Fryslân en blik mei ús foarút op ús plannen yn 202
 6. Of jo no lid binne of gewoan nijsgjirrich nei ús Fryske beweging\, jo b
 inne fan herte wolkom om mei te bouwen oan de takomst fan Europa\, hjir yn 
 ús provinsje.
LOCATION:Kurioskerk - Julianalaan 38\, Ljouwert
URL:https://voltnederland.org/fy/friesland/eveneminten/volt-fryslan-nijjier
 sgearkomst-26
END:VEVENT
END:VCALENDAR
