BEGIN:VCALENDAR
VERSION:2.0
PRODID:-//Volt Europa//Events//EN
CALSCALE:GREGORIAN
METHOD:PUBLISH
BEGIN:VEVENT
UID:volt-fryslan-moanlikse-gearkomste-septimber-1757007000@voltnederland.or
 g
DTSTAMP:20260423T115041Z
DTSTART;TZID=Europe/Amsterdam:20250904T193000
DTEND;TZID=Europe/Amsterdam:20250904T213000
SUMMARY:Volt Fryslân - Moanlikse gearkomste (Septimber)
DESCRIPTION:Wannear? De moanlikse gearkomste is alle earste tongersdeis fan
  de moanne. Wat is de moanlikse gearkomste? Op de moanlikse gearkomste wurd
 e leden bypraat oer wêr't de ôfrûne moanne oan wurke is en helje we idee
 ën op by de leden om Volt Fryslân te ferbetterjen en Volt as beweging sic
 htberder te meitsjen. Kontaktpersoan:  Niels Visser
LOCATION:De Vluchtheuvel\, Ljouwert
URL:https://voltnederland.org/fy/friesland/eveneminten/volt-fryslan-moanlik
 se-gearkomste-septimber
END:VEVENT
END:VCALENDAR
