BEGIN:VCALENDAR
VERSION:2.0
PRODID:-//Volt Europa//Events//EN
CALSCALE:GREGORIAN
METHOD:PUBLISH
BEGIN:VEVENT
UID:volt-fryslan-moanlikse-gearkomste-febrewaris-1738866600@voltnederland.o
 rg
DTSTAMP:20260423T114543Z
DTSTART;TZID=Europe/Amsterdam:20250206T193000
DTEND;TZID=Europe/Amsterdam:20250206T213000
SUMMARY:Ynspiraasjesesje PSV'27
DESCRIPTION:Dizze edysje fan de moanlikse gearkomste sil spesjaal yn it tek
 en stean fan in ynspiraasjesesje foar de PSV'27. Wy nûgje de leden fan her
 ten út om mei te praten en te tinken. Kontaktpersoan:  Niels Visser
LOCATION:De Vluchtheuvel\, Ljouwert
URL:https://voltnederland.org/fy/friesland/eveneminten/volt-fryslan-moanlik
 se-gearkomste-febrewaris
END:VEVENT
END:VCALENDAR
