BEGIN:VCALENDAR
VERSION:2.0
PRODID:-//Volt Europa//Events//EN
CALSCALE:GREGORIAN
METHOD:PUBLISH
BEGIN:VEVENT
UID:volt-fryslan-ledengearkomste-maaie-26-1778175000@voltnederland.org
DTSTAMP:20260423T023455Z
DTSTART;TZID=Europe/Amsterdam:20260507T193000
DTEND;TZID=Europe/Amsterdam:20260507T213000
SUMMARY:Volt Fryslân - Ledengearkomste
DESCRIPTION:Bisto nijsgjirrich nei wat wy de ôfrûne moanne allegear berik
 t hawwe binnen Volt Fryslân? Kom dan nei ús moanlikse ledengearkomste en 
 bou mei ús oan in sterker\, Europeesk Fryslân. Wat dogge wy by de ledenge
 arkomste? By dizze gearkomste prate wy dy by oer de lêste ûntwikkelingen 
 fan de ôfrûne moanne. Dyn input is dêrby essinsjeel: wy helje graach nij
 e ideeën op om Volt Fryslân te ferbetterjen en ús beweging yn de regio s
 ichtberder te meitsjen. Dêrneist dûke wy tegearre yn aktuele beliedstema'
 s en
LOCATION:Kurioskerk\, Ljouwert
URL:https://voltnederland.org/fy/friesland/eveneminten/volt-fryslan-ledenge
 arkomste-maaie-26
END:VEVENT
END:VCALENDAR
