BEGIN:VCALENDAR
VERSION:2.0
PRODID:-//Volt Europa//Events//EN
CALSCALE:GREGORIAN
METHOD:PUBLISH
BEGIN:VEVENT
UID:volt-fryslan-community-buorrel-april-1745598600@voltnederland.org
DTSTAMP:20260423T114415Z
DTSTART;TZID=Europe/Amsterdam:20250425T183000
DTEND;TZID=Europe/Amsterdam:20250425T223000
SUMMARY:Volt Fryslân - Community buorrel (April)
DESCRIPTION:Wannear? De moanlikse buorrel is elke lêste freedtejûn fan de
  moanne. Wat is de moanlikse buorrel? De community buorrel is in fêste gel
 egenheid wêrby 't leden (en fansels ek net-leden) fan Volt Fryslân gesell
 ich mei-inoar kletse kinne oer Volt en de polityk. De community buorrel is 
 in inisjatyf fan it community team fan Volt Fryslân. Dêrmei stiet de comm
 unity buorrel los fan de moanlikse gearkomste. Kontaktpersoan:  John Larido
 n
LOCATION:In de Brouwerij\, Ljouwert
URL:https://voltnederland.org/fy/friesland/eveneminten/volt-fryslan-communi
 ty-buorrel-april
END:VEVENT
END:VCALENDAR
