BEGIN:VCALENDAR
VERSION:2.0
PRODID:-//Volt Europa//Events//EN
CALSCALE:GREGORIAN
METHOD:PUBLISH
BEGIN:VEVENT
UID:stedskuier-ljouwert-1736586000@voltnederland.org
DTSTAMP:20260423T143606Z
DTSTART;TZID=Europe/Amsterdam:20250111T100000
DTEND;TZID=Europe/Amsterdam:20250111T120000
SUMMARY:Stedskuier Ljouwert
DESCRIPTION:Op sneon 11 jannewaris hawwe wy in frisse moarnskuier op'e plan
 ning stean. Wy begjinne om 10 oere mei in bakje kofje yn Grand Cafe de Hofd
 ame yn Ljouwert. Hjirnei kuierje wy lâns de Ljouwerter (winter) miniatuere
 n. Om 12 oere ferwachtsje wy werom te wêzen by it startpunt.
LOCATION:De Hofdame\, Ljouwert
URL:https://voltnederland.org/fy/friesland/eveneminten/stedskuier-ljouwert
END:VEVENT
END:VCALENDAR
