BEGIN:VCALENDAR
VERSION:2.0
PRODID:-//Volt Europa//Events//EN
CALSCALE:GREGORIAN
METHOD:PUBLISH
BEGIN:VEVENT
UID:noordelijke-volt-bijeenkomst-1-1745510400@voltnederland.org
DTSTAMP:20260423T114411Z
DTSTART;TZID=Europe/Amsterdam:20250424T180000
DTEND;TZID=Europe/Amsterdam:20250424T213000
SUMMARY:Noordelijke Volt bijeenkomst #1
DESCRIPTION:Op 24 april 2025 komt Laura Reinink naar Groningen voor een Noo
 rdelijke Voltbijeenkomst met leden uit Groningen\, Friesland en Drenthe. La
 ura is statenlid voor Volt in de provincie Groningen en geeft van 18:00 uur
  tot 19:00 een presentatie. Aansluitend gaan we met zijn allen eten. Het et
 en en drinken is voor eigen rekening. Om in beeld te hebben hoeveel mensen 
 aanwezig zijn\, dien je vooraf een (gratis) kaartje te reserveren. Dat kan 
 via onderstaande link.
LOCATION:Poelestraat 53-55\, 9711 PK Groningen
URL:https://voltnederland.org/friesland/agenda/noordelijke-volt-bijeenkomst
 -1
END:VEVENT
END:VCALENDAR
