BEGIN:VCALENDAR
VERSION:2.0
PRODID:-//Volt Europa//Events//EN
CALSCALE:GREGORIAN
METHOD:PUBLISH
BEGIN:VEVENT
UID:international-frouljusdei-1741428000@voltnederland.org
DTSTAMP:20260423T114339Z
DTSTART;TZID=Europe/Amsterdam:20250308T110000
DTEND;TZID=Europe/Amsterdam:20250308T150000
SUMMARY:International Frouljusdei
DESCRIPTION:It moat oars. Komsto helpe presintsjes út te dielen yn Ljouwer
 t om froulju te motivearjen harren polityk yn te setten?  Wy sammelje om 11
  oere by it stasjon yn Ljouwert.
LOCATION:Ljouwert
URL:https://voltnederland.org/fy/friesland/eveneminten/international-froulj
 usdei
END:VEVENT
END:VCALENDAR
