BEGIN:VCALENDAR
VERSION:2.0
PRODID:-//Volt Europa//Events//EN
CALSCALE:GREGORIAN
METHOD:PUBLISH
BEGIN:VEVENT
UID:bezoek-wac-1750424400@voltnederland.org
DTSTAMP:20260423T102220Z
DTSTART;TZID=Europe/Amsterdam:20250620T150000
DTEND;TZID=Europe/Amsterdam:20250620T170000
SUMMARY:Bezoek WAC
DESCRIPTION:Bij Volt ligt de focus op Europees denken door lokaal het versc
 hil te maken:  â€˜Tink Europeesk\, doch lokaalâ€™ .Â  We willen onze normen
  en waarden inzetten om plannen te maken voor een betere toekomst. Het mooi
 e is\, is dat er al veel gebeurt in FryslÃ¢n\, waar we trots op kunnen zijn
 . â€˜Good practicesâ€™\, die aansluiten bij wat Volt wil. Dat geeft hoop. D
 aar kunnen we verder op bouwen. We willen samen met de Voltleden uit FryslÃ
 ¢n op bezoek bij organisaties\, instanties en bedrijven in FryslÃ¢n\, die i
 ets k
LOCATION:Agora 1\, 8934 ZZ Leeuwarden
URL:https://voltnederland.org/friesland/agenda/bezoek-wac
END:VEVENT
END:VCALENDAR
