BEGIN:VCALENDAR
VERSION:2.0
PRODID:-//Volt Europa//Events//EN
CALSCALE:GREGORIAN
METHOD:PUBLISH
BEGIN:VEVENT
UID:beliedsfyzjemeeting-5-1744306200@voltnederland.org
DTSTAMP:20260423T144527Z
DTSTART;TZID=Europe/Amsterdam:20250410T193000
DTEND;TZID=Europe/Amsterdam:20250410T213000
SUMMARY:Beliedsfyzjemeeting
DESCRIPTION:Bouwe oan in mienskiplike takomst. Dy begjint lokaal. Tegearre 
 bouwe wy oan de fyzje fan Volt foar Fryslân. Ynteresse om mei te tinken of
  mei te praten? Nim kontakt op mei  Frank Kramer  of  Lucjeanne Hoekstra-Pa
 ters .
LOCATION:Nim kontakt op mei de kontaktpersoanen foar de lokaasje
URL:https://voltnederland.org/fy/friesland/eveneminten/beliedsfyzjemeeting-
 5
END:VEVENT
END:VCALENDAR
