BEGIN:VCALENDAR
VERSION:2.0
PRODID:-//Volt Europa//Events//EN
CALSCALE:GREGORIAN
METHOD:PUBLISH
BEGIN:VEVENT
UID:beliedsfyzjemeeting-4-1743100200@voltnederland.org
DTSTAMP:20260423T115259Z
DTSTART;TZID=Europe/Amsterdam:20250327T193000
DTEND;TZID=Europe/Amsterdam:20250327T213000
SUMMARY:Beliedsfyzjemeeting (Duplicated)
DESCRIPTION:Bouwe oan in mienskiplike takomst. Dy begjint lokaal. Tegearre 
 bouwe wy oan de fyzje fan Volt foar Fryslân. Ynteresse om mei te tinken of
  mei te praten? Nim kontakt op mei  Frank Kramer  of  Lucjeanne Hoekstra-Pa
 ters .
LOCATION:Nim kontakt op mei de kontaktpersoanen foar de lokaasje
URL:https://voltnederland.org/fy/friesland/eveneminten/beliedsfyzjemeeting-
 4
END:VEVENT
END:VCALENDAR
