BEGIN:VCALENDAR
VERSION:2.0
PRODID:-//Volt Europa//Events//EN
CALSCALE:GREGORIAN
METHOD:PUBLISH
BEGIN:VEVENT
UID:volt-fryslan-politiek-cafe-oktober-1761764400@voltnederland.org
DTSTAMP:20260423T144615Z
DTSTART;TZID=Europe/Amsterdam:20251029T200000
DTEND;TZID=Europe/Amsterdam:20251029T235900
SUMMARY:Volt Fryslân - Politiek Café LIVE - De verkiezingseditie
DESCRIPTION:In de maand oktober verplaatsen we eenmalig ons politieke café
  naar de woensdag van de Tweede Kamerverkiezingen 2025. Volg met ons de uit
 slagen live en vier de democratie! Wat is Politiek Café LIVE?  Politiek Ca
 fé LIVE is dé open en informele ontmoetingsplek voor iedereen die geïnte
 resseerd is in de politiek van Volt. Of je nu lid bent of gewoon nieuwsgier
 ig\, je bent van harte welkom. Elke maand gaan we in een ontspannen sfeer m
 et elkaar in gesprek over actuele thema's die spelen in onze provinc
LOCATION:Grandcafé de Walrus - Leeuwarden
URL:https://voltnederland.org/friesland/agenda/volt-fryslan-politiek-cafe-o
 ktober
END:VEVENT
END:VCALENDAR
