BEGIN:VCALENDAR
VERSION:2.0
PRODID:-//Volt Europa//Events//EN
CALSCALE:GREGORIAN
METHOD:PUBLISH
BEGIN:VEVENT
UID:volt-fryslan-politiek-cafe-live-april-26-1777051800@voltnederland.org
DTSTAMP:20260421T091333Z
DTSTART;TZID=Europe/Amsterdam:20260424T193000
DTEND;TZID=Europe/Amsterdam:20260424T223000
SUMMARY:Volt Fryslân - Politiek Café LIVE
DESCRIPTION:Wil je op een laagdrempelige manier van gedachten wisselen over
  hoe we de toekomst van Fryslân en Europa kunnen vormgeven? Of wil je in g
 esprek over nieuwe\, progressieve ideeën? Kom dan naar ons maandelijkse Po
 litiek Café LIVE en praat mee over de toekomst! Wat is Politiek Café LIVE
 ?  Politiek Café LIVE is dé open en informele ontmoetingsplek voor iedere
 en die geïnteresseerd is in de politiek van Volt. Of je nu lid bent of gew
 oon nieuwsgierig\, je bent van harte welkom. Elke maand gaan we in een 
LOCATION:Grandcafé de Walrus - Leeuwarden
URL:https://voltnederland.org/friesland/agenda/volt-fryslan-politiek-cafe-l
 ive-april-26
END:VEVENT
END:VCALENDAR
