BEGIN:VCALENDAR
VERSION:2.0
PRODID:-//Volt Europa//Events//EN
CALSCALE:GREGORIAN
METHOD:PUBLISH
BEGIN:VEVENT
UID:volt-fryslan-nieuwjaarsbijeenkomst-26-1767983400@voltnederland.org
DTSTAMP:20260423T212751Z
DTSTART;TZID=Europe/Amsterdam:20260109T193000
DTEND;TZID=Europe/Amsterdam:20260109T213000
SUMMARY:Geannuleerd! Volt Fryslân - Nieuwjaarsbijeenkomst
DESCRIPTION:Vanwege de weersomstandigheden hebben we deze bijeenkomt helaas
  moet annuleren. Op vrijdag 9 januari trappen we als Volt Frylân het nieuw
 e jaar af met een nieuwjaarsbijeenkomst. Praat in een informele sfeer bij m
 et andere Volters uit Friesland en blik met ons mee vooruit op onze plannen
  in 2026.  Of je nu lid bent of gewoon nieuwsgierig naar onze Friese bewegi
 ng\, je bent van harte welkom om mee te bouwen aan de toekomst van Europa\,
  hier in onze provincie.
LOCATION:Kurioskerk - Julianalaan 38\, Leeuwarden
URL:https://voltnederland.org/friesland/agenda/volt-fryslan-nieuwjaarsbijee
 nkomst-26
END:VEVENT
END:VCALENDAR
