BEGIN:VCALENDAR
VERSION:2.0
PRODID:-//Volt Europa//Events//EN
CALSCALE:GREGORIAN
METHOD:PUBLISH
BEGIN:VEVENT
UID:volt-fryslan-maandelijkse-bijeenkomst-september-1757007000@voltnederlan
 d.org
DTSTAMP:20260423T114538Z
DTSTART;TZID=Europe/Amsterdam:20250904T193000
DTEND;TZID=Europe/Amsterdam:20250904T213000
SUMMARY:Volt Fryslân - Maandelijkse bijeenkomst (September)
DESCRIPTION:Wanneer? De maandelijkse bijeenkomst is elke eerste donderdag v
 an de maand. Wat is de maandelijkse bijeenkomst? Op de maandelijkse bijeenk
 omst worden leden bijgepraat over waar de afgelopen maand aan is gewerkt en
  halen we ideeën op bij de leden om Volt Fryslân te verbeteren en Volt al
 s beweging zichtbaarder te maken. Contactpersoon:  Niels Visser
LOCATION:De Vluchtheuvel\, Leeuwarden
URL:https://voltnederland.org/friesland/agenda/volt-fryslan-maandelijkse-bi
 jeenkomst-september
END:VEVENT
END:VCALENDAR
