BEGIN:VCALENDAR
VERSION:2.0
PRODID:-//Volt Europa//Events//EN
CALSCALE:GREGORIAN
METHOD:PUBLISH
BEGIN:VEVENT
UID:volt-fryslan-maandelijkse-bijeenkomst-februari-1738866600@voltnederland
 .org
DTSTAMP:20260423T114549Z
DTSTART;TZID=Europe/Amsterdam:20250206T193000
DTEND;TZID=Europe/Amsterdam:20250206T213000
SUMMARY:Inspiratiesessie PSV'27
DESCRIPTION:Deze editie van de maandelijkse bijeenkomst zal speciaal in het
  teken staan van een inspiratiesessie voor de PSV'27. We nodigen de leden v
 an harte uit om mee te praten en te denken. Contactpersoon:  Niels Visser
LOCATION:De Vluchtheuvel\, Leeuwarden
URL:https://voltnederland.org/friesland/agenda/volt-fryslan-maandelijkse-bi
 jeenkomst-februari
END:VEVENT
END:VCALENDAR
