BEGIN:VCALENDAR
VERSION:2.0
PRODID:-//Volt Europa//Events//EN
CALSCALE:GREGORIAN
METHOD:PUBLISH
BEGIN:VEVENT
UID:volt-fryslan-ledenbijeenkomst-mei-26-1778175000@voltnederland.org
DTSTAMP:20260421T092202Z
DTSTART;TZID=Europe/Amsterdam:20260507T193000
DTEND;TZID=Europe/Amsterdam:20260507T213000
SUMMARY:Volt Fryslân - Ledenbijeenkomst
DESCRIPTION:Ben je benieuwd wat we de afgelopen maand allemaal hebben berei
 kt binnen Volt Fryslân? Kom dan naar onze maandelijkse ledenbijeenkomst en
  bouw met ons aan een sterker\, Europees Fryslân. Wat doen we tijdens de l
 edenbijeenkomst? Tijdens deze bijeenkomst praten we je bij over de laatste 
 ontwikkelingen van de afgelopen maand. Jouw input is daarbij essentieel: we
  halen graag nieuwe ideeën op om Volt Fryslân te verbeteren en onze beweg
 ing in de regio zichtbaarder te maken. Daarnaast duiken we samen in
LOCATION:Kurioskerk\, Leeuwarden
URL:https://voltnederland.org/friesland/agenda/volt-fryslan-ledenbijeenkoms
 t-mei-26
END:VEVENT
END:VCALENDAR
