BEGIN:VCALENDAR
VERSION:2.0
PRODID:-//Volt Europa//Events//EN
CALSCALE:GREGORIAN
METHOD:PUBLISH
BEGIN:VEVENT
UID:volt-fryslan-community-borrel-april-1745598600@voltnederland.org
DTSTAMP:20260423T114134Z
DTSTART;TZID=Europe/Amsterdam:20250425T183000
DTEND;TZID=Europe/Amsterdam:20250425T223000
SUMMARY:Volt Fryslân - Community borrel (April)
DESCRIPTION:Wanneer? De maandelijkse borrel is elke laatste vrijdagavond va
 n de maand. Wat is de maandelijkse borrel? De community borrel is een vaste
  gelegenheid waarbij leden (en natuurlijk ook niet-leden) van Volt Fryslân
  gezellig met elkaar kunnen kletsen over Volt en de politiek. De community 
 borrel is een initiatief van het community team van Volt Fryslân. Daarme
 e staat de community borrel los van de maandelijkse bijeenkomst. Contactper
 soon:   John Laridon
LOCATION:In de Brouwerij\, Leeuwarden
URL:https://voltnederland.org/friesland/agenda/volt-fryslan-community-borre
 l-april
END:VEVENT
END:VCALENDAR
