BEGIN:VCALENDAR
VERSION:2.0
PRODID:-//Volt Europa//Events//EN
CALSCALE:GREGORIAN
METHOD:PUBLISH
BEGIN:VEVENT
UID:stadswandeling-leeuwarden-1736586000@voltnederland.org
DTSTAMP:20260423T102132Z
DTSTART;TZID=Europe/Amsterdam:20250111T100000
DTEND;TZID=Europe/Amsterdam:20250111T120000
SUMMARY:Stadswandeling Leeuwarden
DESCRIPTION:Op zaterdag 11 januari hebben we een frisse ochtendwandeling op
  de planning staan. We starten om 10 uur met een kopje koffie in Grand Cafe
  de Hofdame in Leeuwarden. Hierna wandelen we langs de Leeuwarder (winter) 
 miniaturen. Rond 12 uur verwachten we terug te zijn bij het startpunt.
LOCATION:De Hofdame\, Leeuwarden
URL:https://voltnederland.org/friesland/agenda/stadswandeling-leeuwarden
END:VEVENT
END:VCALENDAR
