BEGIN:VCALENDAR
VERSION:2.0
PRODID:-//Volt Europa//Events//EN
CALSCALE:GREGORIAN
METHOD:PUBLISH
BEGIN:VEVENT
UID:stadswandeling-leeuwarden-1-1751027400@voltnederland.org
DTSTAMP:20260423T102227Z
DTSTART;TZID=Europe/Amsterdam:20250627T143000
DTEND;TZID=Europe/Amsterdam:20250627T160000
SUMMARY:Stadswandeling Leeuwarden
DESCRIPTION:Op vrijdag 27 juni 2025 organiseren we een stadswandeling door 
 Leeuwarden onder begeleiding van een ervaren gids. Als het lukt brengen we 
 ook een bezoek aan het provinciehuis. De wandeling start om 14.30 en duurt 
 ongeveer 1\,5 uur. Omdat de groepsgrootte beperkt is\, is aanmelden wel noo
 dzakelijk.  Aansluitend is de maandelijkse borrel in de Brouwerij. Deze sta
 rt voor de verandering om 16.00 en is uiteraard voor iedereen toegankelijk.
LOCATION:Leeuwarden
URL:https://voltnederland.org/friesland/agenda/stadswandeling-leeuwarden-1
END:VEVENT
END:VCALENDAR
