BEGIN:VCALENDAR
VERSION:2.0
PRODID:-//Volt Europa//Events//EN
CALSCALE:GREGORIAN
METHOD:PUBLISH
BEGIN:VEVENT
UID:save-the-date-congres-9-mei-1778313600@voltnederland.org
DTSTAMP:20260421T091957Z
DTSTART;TZID=Europe/Amsterdam:20260509T100000
DTEND;TZID=Europe/Amsterdam:20260509T170000
SUMMARY:Volt congres & Europadag party 9 mei
DESCRIPTION:Als echte Europese Volter staat 9 mei natuurlijk al lang in jou
 w agenda paars omcirkeld. Europadag\, een dag die wij als enige echte Europ
 ese partij volop vieren. Dit jaar combineren wij Europadag met ons national
 e Volt Nederland congres in  Reehorst te Ede. Bij uitstek de Europese feest
 dag\, dus voor ons een dag vol festiviteiten. Maar dit is ook een dag om me
 t elkaar het gesprek aan te gaan\, nieuwe en bekende Volters te ontmoeten\,
  onze organisatiestrategie te bespreken en samen als vereniging Eu
LOCATION:Reehorst Ede
URL:https://voltnederland.org/agenda/save-the-date-congres-9-mei
END:VEVENT
END:VCALENDAR
