BEGIN:VCALENDAR
VERSION:2.0
PRODID:-//Volt Europa//Events//EN
CALSCALE:GREGORIAN
METHOD:PUBLISH
BEGIN:VEVENT
UID:internationale-vrouwendag-1741428000@voltnederland.org
DTSTAMP:20260423T161203Z
DTSTART;TZID=Europe/Amsterdam:20250308T110000
DTEND;TZID=Europe/Amsterdam:20250308T150000
SUMMARY:Internationale Vrouwendag
DESCRIPTION:Het moet anders. Kom jij helpen presentjes uit te delen in Leeu
 warden om vrouwen te motiveren zich politiek in te zetten? We verzamelen om
  11 uur bij het station in Leeuwarden.
LOCATION:Leeuwarden
URL:https://voltnederland.org/friesland/agenda/internationale-vrouwendag
END:VEVENT
END:VCALENDAR
