BEGIN:VCALENDAR
VERSION:2.0
PRODID:-//Volt Europa//Events//EN
CALSCALE:GREGORIAN
METHOD:PUBLISH
BEGIN:VEVENT
UID:do-mocracy-session-practicing-democracy-every-day-1771441200@voltnederl
 and.org
DTSTAMP:20260421T092244Z
DTSTART;TZID=Europe/Amsterdam:20260218T200000
DTEND;TZID=Europe/Amsterdam:20260218T213000
SUMMARY:DO-mocracy session (practicing democracy every day)
DESCRIPTION:"The Volt Academy team is hosting a series of trainings on how 
 to ""practice democracy"". The first session will be How democratic are we\
 , really?  Practicing democracy is demanding. We start by reflecting on our
  own behaviour\, using a democratic compass that includes courage\, respons
 ibility and conflict. In the first session\, we will form Do-mocracy peer c
 ircles: small peer groups to stay connected\, exchange experiences\, and su
 pport each other in practicing democracy every day.
LOCATION:Online
URL:https://voltnederland.org/agenda/do-mocracy-session-practicing-democrac
 y-every-day
END:VEVENT
END:VCALENDAR
