BEGIN:VCALENDAR
VERSION:2.0
PRODID:-//Volt Europa//Events//EN
CALSCALE:GREGORIAN
METHOD:PUBLISH
BEGIN:VEVENT
UID:beleidsvisiemeeting-4-1743100200@voltnederland.org
DTSTAMP:20260423T102133Z
DTSTART;TZID=Europe/Amsterdam:20250327T193000
DTEND;TZID=Europe/Amsterdam:20250327T213000
SUMMARY:Beleidsvisiemeeting
DESCRIPTION:Bouwen aan een gezamenlijke toekomst. Die begint lokaal. Samen 
 bouwen we aan de visie van Volt voor Fryslân. Interesse om mee te denken o
 f mee te praten? Neem contact op met  Frank Kramer  of  Lucjeanne Hoekstra-
 Paters .
LOCATION:Neem contact op met de contactpersonen voor de locatie
URL:https://voltnederland.org/friesland/agenda/beleidsvisiemeeting-4
END:VEVENT
END:VCALENDAR
