BEGIN:VCALENDAR
VERSION:2.0
PRODID:-//Volt Europa//Events//EN
CALSCALE:GREGORIAN
METHOD:PUBLISH
BEGIN:VEVENT
UID:beleidsvisiemeeting-2-1740681000@voltnederland.org
DTSTAMP:20260423T102101Z
DTSTART;TZID=Europe/Amsterdam:20250227T193000
DTEND;TZID=Europe/Amsterdam:20250227T213000
SUMMARY:Beleidsvisiemeeting
DESCRIPTION:Bouwen aan een gezamenlijke toekomst. Die begint lokaal. Samen 
 bouwen we aan de visie van Volt voor Fryslân. Interesse om mee te denken o
 f mee te praten? Neem contact op met  Frank Kramer  of  Lucjeanne Hoekstra-
 Paters .
LOCATION:Neem contact op met de contactpersonen voor de locatie
URL:https://voltnederland.org/friesland/agenda/beleidsvisiemeeting-2
END:VEVENT
END:VCALENDAR
