BEGIN:VCALENDAR
VERSION:2.0
PRODID:-//Volt Europa//Events//EN
CALSCALE:GREGORIAN
METHOD:PUBLISH
BEGIN:VEVENT
UID:volt-flevoland-politiek-cafe-live-april-1777566600@voltnederland.org
DTSTAMP:20260423T023434Z
DTSTART;TZID=Europe/Amsterdam:20260430T183000
DTEND;TZID=Europe/Amsterdam:20260430T213000
SUMMARY:Volt Flevoland - Politiek Café Live (April)
DESCRIPTION:Wil je op een laagdrempelige manier van gedachten wisselen over
  hoe we de toekomst van Flevoland en Europa kunnen vormgeven? Of wil je in 
 gesprek over nieuwe\, progressieve ideeën? Kom dan naar ons maandelijkse P
 olitiek Café LIVE en praat mee over de toekomst! Wat is Politiek Café Liv
 e? Politiek Café Live is een open en informele ontmoetingsplek voor iedere
 en die geïnteresseerd is in de politiek van Volt. Of je nu lid bent of gew
 oon nieuwsgierig\, je bent van harte welkom. Elke maand gaan we in ee
LOCATION:Café op 2\, Almere
URL:https://voltnederland.org/flevoland/agenda/volt-flevoland-politiek-cafe
 -live-april
END:VEVENT
END:VCALENDAR
