BEGIN:VCALENDAR
VERSION:2.0
PRODID:-//Volt Europa//Events//EN
CALSCALE:GREGORIAN
METHOD:PUBLISH
BEGIN:VEVENT
UID:volt-flevoland-maandelijkse-bijeenkomst-januari-1768242600@voltnederlan
 d.org
DTSTAMP:20260423T212509Z
DTSTART;TZID=Europe/Amsterdam:20260112T193000
DTEND;TZID=Europe/Amsterdam:20260112T213000
SUMMARY:Volt Flevoland - Maandelijkse maandag meeting (Januari)
DESCRIPTION:Wanneer? De maandelijkse bijeenkomst is elke vier weken in het 
 provinciehuis in Lelystad Wat is de maandelijkse bijeenkomst? Op de maandel
 ijkse bijeenkomst worden leden bijgepraat over waar de afgelopen maand aan 
 is gewerkt en halen we ideeën op bij de leden om Volt Flevoland te verbete
 ren en Volt als beweging zichtbaarder te maken. Aanmelden Voorkennis is nie
 t nodig\, maar aanmelden wel (verplicht vanuit het Provinciehuis). Stuur hi
 ervoor een mailtje met jouw naam naar  flevoland@voltnederland.o
LOCATION:Provinciehuis | Visarenddreef 1\, Lelystad
URL:https://voltnederland.org/flevoland/agenda/volt-flevoland-maandelijkse-
 bijeenkomst-januari
END:VEVENT
END:VCALENDAR
