BEGIN:VCALENDAR
VERSION:2.0
PRODID:-//Volt Europa//Events//EN
CALSCALE:GREGORIAN
METHOD:PUBLISH
BEGIN:VEVENT
UID:volt-flevoland-digitale-bijeenkomst-november-1762799400@voltnederland.o
 rg
DTSTAMP:20260423T212412Z
DTSTART;TZID=Europe/Amsterdam:20251110T193000
DTEND;TZID=Europe/Amsterdam:20251110T213000
SUMMARY:Volt Flevoland - Digitale bijeenkomst (November)
DESCRIPTION:Wanneer? Maandag 10 november van 19:30-21:00 Wat is een digital
 e bijeenkomst? Op een digitale bijeenkomst worden leden bijgepraat over waa
 r de afgelopen maand aan is gewerkt en halen we ideeën op bij de leden om 
 Volt Flevoland te verbeteren en Volt als beweging zichtbaarder te maken. De
 ze keer bespreken we de uitkomst van de verkiezingen en wat dat voor Flevol
 and betekent. Daarnaast plannen we de maandelijkse borrels voor de rest van
  dit jaar.  Aanmelden Voorkennis is niet nodig. Stuur hiervoor 
LOCATION:Online via Google Meet
URL:https://voltnederland.org/flevoland/agenda/volt-flevoland-digitale-bije
 enkomst-november
END:VEVENT
END:VCALENDAR
