BEGIN:VCALENDAR
VERSION:2.0
PRODID:-//Volt Europa//Events//EN
CALSCALE:GREGORIAN
METHOD:PUBLISH
BEGIN:VEVENT
UID:kom-langs-bij-volt-violet-op-de-pjo-markt-in-lelystad-1769769900@voltne
 derland.org
DTSTAMP:20260423T174240Z
DTSTART;TZID=Europe/Amsterdam:20260130T114500
DTEND;TZID=Europe/Amsterdam:20260130T150000
SUMMARY:Kom langs bij Volt Violet op de PJO-markt in Lelystad!
DESCRIPTION:Op vrijdag 30 januari is Volt Violet aanwezig op de PJO-markt i
 n het provinciehuis van Lelystad. Benieuwd hoe jongeren invloed uitoefenen 
 op de politiek? Dan is dit hét moment om langs te komen. Bij onze stand ku
 n je kennismaken met Volt Violet\, in gesprek gaan over actuele politieke t
 hema’s en ontdekken hoe jongeren zich organiseren binnen de provinciale e
 n Europese politiek.  De markt is tijdens de debatcompetitie De stem van j
 ong Nederland in Flevoland\, kijk voor meer informatie op  https://d
LOCATION:Provinciehuis Flevoland\, Lelystad
URL:https://voltnederland.org/flevoland/agenda/kom-langs-bij-volt-violet-op
 -de-pjo-markt-in-lelystad
END:VEVENT
END:VCALENDAR
